Workbook

Sheet 工作表1
A4: 學生 英文姓名 | B4: 學生中文姓名 (港澳生必填) | C4: 預定入境 日期 (西元年) | D4: 學校安排居家檢疫地點
D5: 名稱 | E5: 地址 | F5: 學校 | G5: 電話
A6: HY CONG MAN | B6: 許光文 | C6: =VLOOKUP(B6,[1]入境日期!$A$1:$B$134,2,FALSE) -> 20200923 | D6: =VLOOKUP(B6,[1]入境日期!$A$1:$E$134,4,FALSE) -> 王牌大飯店(中壢) | E6: =VLOOKUP(B6,[1]入境日期!$A$1:$E$134,5,FALSE) ->  桃園市中壢區永嘉街98號 | F6: =VLOOKUP(B6,[1]電話!$A$1:$D$134,4,FALSE) -> #N/A | G6: =VLOOKUP(B6,[1]電話!$A$1:$D$134,3,FALSE) -> 0976274975
A7: DIP VA PHAT | B7: 葉華發 | C7: =VLOOKUP(B7,[1]入境日期!$A$1:$B$134,2,FALSE) -> 20200923 | D7: =VLOOKUP(B7,[1]入境日期!$A$1:$E$134,4,FALSE) -> 王牌大飯店(中壢) | E7: =VLOOKUP(B7,[1]入境日期!$A$1:$E$134,5,FALSE) ->  桃園市中壢區永嘉街98號 | F7: =VLOOKUP(B7,[1]電話!$A$1:$D$134,4,FALSE) -> 定館越華學校 | G7: =VLOOKUP(B7,[1]電話!$A$1:$D$134,3,FALSE) -> 0976135457
A8: CAM PHAT THANH | B8: 甘發成 | C8: =VLOOKUP(B8,[1]入境日期!$A$1:$B$134,2,FALSE) -> 20200923 | D8: =VLOOKUP(B8,[1]入境日期!$A$1:$E$134,4,FALSE) -> 文賓大飯店 | E8: =VLOOKUP(B8,[1]入境日期!$A$1:$E$134,5,FALSE) ->  高雄市鹽埕區大勇路22號 | F8: =VLOOKUP(B8,[1]電話!$A$1:$D$134,4,FALSE) -> 定館越華學校 | G8: =VLOOKUP(B8,[1]電話!$A$1:$D$134,3,FALSE) -> 0900054598
A9: LIU PHU HI | B9: 廖富熙 | C9: =VLOOKUP(B9,[1]入境日期!$A$1:$B$134,2,FALSE) -> 20200923 | D9: =VLOOKUP(B9,[1]入境日期!$A$1:$E$134,4,FALSE) -> 文賓大飯店 | E9: =VLOOKUP(B9,[1]入境日期!$A$1:$E$134,5,FALSE) ->  高雄市鹽埕區大勇路22號 | F9: =VLOOKUP(B9,[1]電話!$A$1:$D$134,4,FALSE) -> 定館越華學校 | G9: =VLOOKUP(B9,[1]電話!$A$1:$D$134,3,FALSE) -> 0908594358
A10: LOOC VAN KIEN | B10: 駱萬健 | C10: =VLOOKUP(B10,[1]入境日期!$A$1:$B$134,2,FALSE) -> 20200923 | D10: =VLOOKUP(B10,[1]入境日期!$A$1:$E$134,4,FALSE) -> 文賓大飯店 | E10: =VLOOKUP(B10,[1]入境日期!$A$1:$E$134,5,FALSE) ->  高雄市鹽埕區大勇路22號 | F10: =VLOOKUP(B10,[1]電話!$A$1:$D$134,4,FALSE) -> 平祿華文學校 | G10: =VLOOKUP(B10,[1]電話!$A$1:$D$134,3,FALSE) -> 0903145904
A11: HY PHUNG VA | B11: 許馮華 | C11: =VLOOKUP(B11,[1]入境日期!$A$1:$B$134,2,FALSE) -> 20200924 | D11: =VLOOKUP(B11,[1]入境日期!$A$1:$E$134,4,FALSE) -> 夢想家商務旅館 | E11: =VLOOKUP(B11,[1]入境日期!$A$1:$E$134,5,FALSE) ->  嘉義縣布袋鎮新北路22號 | F11: =VLOOKUP(B11,[1]電話!$A$1:$D$134,4,FALSE) -> 樹人學校 | G11: =VLOOKUP(B11,[1]電話!$A$1:$D$134,3,FALSE) -> 0903624251
A12: CHANG CUN NHAT | B12: 曾觀日 | C12: =VLOOKUP(B12,[1]入境日期!$A$1:$B$134,2,FALSE) -> 20200923 | D12: =VLOOKUP(B12,[1]入境日期!$A$1:$E$134,4,FALSE) -> 文賓大飯店 | E12: =VLOOKUP(B12,[1]入境日期!$A$1:$E$134,5,FALSE) ->  高雄市鹽埕區大勇路22號 | F12: =VLOOKUP(B12,[1]電話!$A$1:$D$134,4,FALSE) -> 定館越華學校 | G12: =VLOOKUP(B12,[1]電話!$A$1:$D$134,3,FALSE) -> 0908594354
A13: HO MAN KHIN | B13: 何文權 | C13: =VLOOKUP(B13,[1]入境日期!$A$1:$B$134,2,FALSE) -> 20200924 | D13: =VLOOKUP(B13,[1]入境日期!$A$1:$E$134,4,FALSE) -> 夢想家商務旅館 | E13: =VLOOKUP(B13,[1]入境日期!$A$1:$E$134,5,FALSE) ->  嘉義縣布袋鎮新北路22號 | F13: =VLOOKUP(B13,[1]電話!$A$1:$D$134,4,FALSE) -> 定館樹人 | G13: =VLOOKUP(B13,[1]電話!$A$1:$D$134,3,FALSE) -> 0900509483
A14: LE HUU HOANG CHIEN | B14: 黎有皇戰 | C14: =VLOOKUP(B14,[1]入境日期!$A$1:$B$134,2,FALSE) -> 20200924 | D14: =VLOOKUP(B14,[1]入境日期!$A$1:$E$134,4,FALSE) -> 夢想家商務旅館 | E14: =VLOOKUP(B14,[1]入境日期!$A$1:$E$134,5,FALSE) ->  嘉義縣布袋鎮新北路22號 | F14: =VLOOKUP(B14,[1]電話!$A$1:$D$134,4,FALSE) -> 定館樹人 | G14: =VLOOKUP(B14,[1]電話!$A$1:$D$134,3,FALSE) -> 0930693046
A15: HY PHUNG LONG | B15: 許鴻龍 | C15: =VLOOKUP(B15,[1]入境日期!$A$1:$B$134,2,FALSE) -> 20200924 | D15: =VLOOKUP(B15,[1]入境日期!$A$1:$E$134,4,FALSE) -> 夢想家商務旅館 | E15: =VLOOKUP(B15,[1]入境日期!$A$1:$E$134,5,FALSE) ->  嘉義縣布袋鎮新北路22號 | F15: =VLOOKUP(B15,[1]電話!$A$1:$D$134,4,FALSE) -> 定館樹人 | G15: =VLOOKUP(B15,[1]電話!$A$1:$D$134,3,FALSE) -> 0908594353
A16: CUN LY DUC | B16: 官李德 | C16: =VLOOKUP(B16,[1]入境日期!$A$1:$B$134,2,FALSE) -> 20200924 | D16: =VLOOKUP(B16,[1]入境日期!$A$1:$E$134,4,FALSE) -> 夢想家商務旅館 | E16: =VLOOKUP(B16,[1]入境日期!$A$1:$E$134,5,FALSE) ->  嘉義縣布袋鎮新北路22號 | F16: =VLOOKUP(B16,[1]電話!$A$1:$D$134,4,FALSE) -> 定館樹人 | G16: =VLOOKUP(B16,[1]電話!$A$1:$D$134,3,FALSE) -> 0908594352
A17: VAN PHU QUY | B17: 溫富貴 | C17: =VLOOKUP(B17,[1]入境日期!$A$1:$B$134,2,FALSE) -> 20200923 | D17: =VLOOKUP(B17,[1]入境日期!$A$1:$E$134,4,FALSE) -> 文賓大飯店 | E17: =VLOOKUP(B17,[1]入境日期!$A$1:$E$134,5,FALSE) ->  高雄市鹽埕區大勇路22號 | F17: =VLOOKUP(B17,[1]電話!$A$1:$D$134,4,FALSE) -> 平祿華文學校 | G17: =VLOOKUP(B17,[1]電話!$A$1:$D$134,3,FALSE) -> 0989934482
... A139: VONG NGOC PHUONG | B139: 黃玉芳 | C139: =VLOOKUP(B139,[1]入境日期!$A$1:$B$134,2,FALSE) -> 20200923 | D139: =VLOOKUP(B139,[1]入境日期!$A$1:$E$134,4,FALSE) -> 王牌大飯店(中壢) | E139: =VLOOKUP(B139,[1]入境日期!$A$1:$E$134,5,FALSE) ->  桃園市中壢區永嘉街98號 | F139: =VLOOKUP(B139,[1]電話!$A$1:$D$134,4,FALSE) -> 平祿華文學校 | G139: =VLOOKUP(B139,[1]電話!$A$1:$D$134,3,FALSE) -> 0908594574
